BEGIN:VCALENDAR
VERSION:2.0
PRODID:-//Evangelische Kirchengemeinde Hilgenroth - ECPv6.15.20//NONSGML v1.0//EN
CALSCALE:GREGORIAN
METHOD:PUBLISH
X-ORIGINAL-URL:https://kgm-hilgenroth.de
X-WR-CALDESC:Veranstaltungen für Evangelische Kirchengemeinde Hilgenroth
REFRESH-INTERVAL;VALUE=DURATION:PT1H
X-Robots-Tag:noindex
X-PUBLISHED-TTL:PT1H
BEGIN:VTIMEZONE
TZID:UTC
BEGIN:STANDARD
TZOFFSETFROM:+0000
TZOFFSETTO:+0000
TZNAME:UTC
DTSTART:20250101T000000
END:STANDARD
END:VTIMEZONE
BEGIN:VEVENT
DTSTART;TZID=UTC:20260406T100000
DTEND;TZID=UTC:20260406T100000
DTSTAMP:20260420T090839
CREATED:20260324T073218Z
LAST-MODIFIED:20260324T073218Z
UID:3094-1775469600-1775469600@kgm-hilgenroth.de
SUMMARY:Gottesdienst - Ostermontag
DESCRIPTION:Gottesdienst für die Region mit einem Musical zur Emmausgeschichte in Oberwambach\, Pfarrer Triebel-Kulpe. \nIm Anschluss Kirchencafé. \n  \n  \n  \n  \n  \n  \n  \n  \n  \n  \n  \n 
URL:https://kgm-hilgenroth.de/termin/gottesdienst-ostermontag/
LOCATION:Oberwambach
CATEGORIES:Gottesdienst
END:VEVENT
END:VCALENDAR